BEGIN:VCALENDAR
VERSION:2.0
PRODID:-//Abergele Golf Club - ECPv6.15.18//NONSGML v1.0//EN
CALSCALE:GREGORIAN
METHOD:PUBLISH
X-WR-CALNAME:Abergele Golf Club
X-ORIGINAL-URL:https://www.abergelegolfclub.co.uk
X-WR-CALDESC:Events for Abergele Golf Club
REFRESH-INTERVAL;VALUE=DURATION:PT1H
X-Robots-Tag:noindex
X-PUBLISHED-TTL:PT1H
BEGIN:VTIMEZONE
TZID:Europe/London
BEGIN:DAYLIGHT
TZOFFSETFROM:+0000
TZOFFSETTO:+0100
TZNAME:BST
DTSTART:20220327T010000
END:DAYLIGHT
BEGIN:STANDARD
TZOFFSETFROM:+0100
TZOFFSETTO:+0000
TZNAME:GMT
DTSTART:20221030T010000
END:STANDARD
BEGIN:DAYLIGHT
TZOFFSETFROM:+0000
TZOFFSETTO:+0100
TZNAME:BST
DTSTART:20230326T010000
END:DAYLIGHT
BEGIN:STANDARD
TZOFFSETFROM:+0100
TZOFFSETTO:+0000
TZNAME:GMT
DTSTART:20231029T010000
END:STANDARD
BEGIN:DAYLIGHT
TZOFFSETFROM:+0000
TZOFFSETTO:+0100
TZNAME:BST
DTSTART:20240331T010000
END:DAYLIGHT
BEGIN:STANDARD
TZOFFSETFROM:+0100
TZOFFSETTO:+0000
TZNAME:GMT
DTSTART:20241027T010000
END:STANDARD
END:VTIMEZONE
BEGIN:VEVENT
DTSTART;TZID=Europe/London:20230603T190000
DTEND;TZID=Europe/London:20230603T233000
DTSTAMP:20260424T050914
CREATED:20230512T101448Z
LAST-MODIFIED:20230531T112425Z
UID:9164-1685818800-1685835000@www.abergelegolfclub.co.uk
SUMMARY:Spring into Summer BBQ
DESCRIPTION:Get Your Grill On: Spring Into Summer BBQ Tickets Now on Sale! Join us on Saturday\, June 3rd\, 2023 for a sizzling night of fun and entertainment. Enjoy the soulful sounds of Alex Devine and the groovy beats of DJ Micky Moonshine. For just £20\, indulge in mouth-watering BBQ food from the Clubhouse Bistro. Don’t miss out\, get your tickets today at our bar and let’s fire up the summer! \nYou can have a listen to Alex Devine by clicking on the link below: \nhttps://youtu.be/cpZ9YFnpeWY
URL:https://www.abergelegolfclub.co.uk/event/spring-into-summer-bbq/
LOCATION:Abergele Golf Club\, Tan-Y-Gopa Road\, Abergele\, Conwy\, LL228DS\, United Kingdom
CATEGORIES:Social
ATTACH;FMTTYPE=image/png:https://www.abergelegolfclub.co.uk/wp-content/uploads/2023/05/BBQ-Post-23.png
END:VEVENT
BEGIN:VEVENT
DTSTART;TZID=Europe/London:20230519T190000
DTEND;TZID=Europe/London:20230519T233000
DTSTAMP:20260424T050914
CREATED:20230420T151705Z
LAST-MODIFIED:20230420T151736Z
UID:9068-1684522800-1684539000@www.abergelegolfclub.co.uk
SUMMARY:A Tribute Night Honouring Rod Stewart
DESCRIPTION:Get ready for an unforgettable night of entertainment as Abergele Golf Club hosts a tribute to the legendary Rod Stewart on May 19th at 7pm. \nGerry Trew\, renowned for his incredible portrayal of the rock icon\, will be taking to the stage at 8:45pm and 10pm\, bringing all of Rod’s greatest hits to life. But that’s not all – dance the night away to the electrifying sounds of Micky Moonshine’s 70s and 80s dance floor classics in between sets. \nThis is an event not to be missed\, with tickets priced at just £7 each. Purchase your tickets from our bar or contact Dino on 07974 703602 to secure your spot at what promises to be an unforgettable evening of music and entertainment.
URL:https://www.abergelegolfclub.co.uk/event/rod-stewart-tribute/
LOCATION:Abergele Golf Club\, Tan-Y-Gopa Road\, Abergele\, Conwy\, LL228DS\, United Kingdom
CATEGORIES:Social
ATTACH;FMTTYPE=image/jpeg:https://www.abergelegolfclub.co.uk/wp-content/uploads/2023/03/gerry-trew-as-rod-stewart.jpg
END:VEVENT
BEGIN:VEVENT
DTSTART;TZID=Europe/London:20230512T090000
DTEND;TZID=Europe/London:20230512T133000
DTSTAMP:20260424T050914
CREATED:20230307T111120Z
LAST-MODIFIED:20230309T184025Z
UID:8896-1683882000-1683898200@www.abergelegolfclub.co.uk
SUMMARY:Senior Ladies Better Ball
DESCRIPTION:The Senior Ladies Better Ball here at Abergele Golf Club is a ladies four ball better-ball. Tee times are available from 9-1:30pm on Friday 12th May. To book your tee time\, please visit https://brsgolf.com/abergele/opens_home.php.
URL:https://www.abergelegolfclub.co.uk/event/senior-ladies-better-ball/
LOCATION:Conwy
CATEGORIES:Golf
END:VEVENT
BEGIN:VEVENT
DTSTART;TZID=Europe/London:20230429T193000
DTEND;TZID=Europe/London:20230429T220000
DTSTAMP:20260424T050914
CREATED:20230421T090706Z
LAST-MODIFIED:20230421T090813Z
UID:9076-1682796600-1682805600@www.abergelegolfclub.co.uk
SUMMARY:Rock the Bank Holiday with Muddy Boots
DESCRIPTION:Join us this upcoming bank holiday weekend for a special event featuring the talented band Muddy Boots. This event is exclusively for members and is completely free of charge. The band will be performing two sets\, starting at 7:30pm and finishing at 10pm\, so you can enjoy a full evening of live music. \n\n\nMuddy Boots is a unique collaboration of members from Holywell Ramblers\, and they specialise in playing music from the 60s and 70s. With their energetic performances and catchy tunes\, they are sure to get you up and dancing. \n\n\nNo need to worry about the cost of entry – this event is completely free for members. So\, come along and start your bank holiday weekend on the right foot. We can’t wait to see you there!
URL:https://www.abergelegolfclub.co.uk/event/rock-the-bank-holiday-with-muddy-boots/
LOCATION:Abergele Golf Club\, Tan-Y-Gopa Road\, Abergele\, Conwy\, LL228DS\, United Kingdom
CATEGORIES:Social
ATTACH;FMTTYPE=image/jpeg:https://www.abergelegolfclub.co.uk/wp-content/uploads/2022/09/Abergele_Golf_Club_Holding.jpg
END:VEVENT
BEGIN:VEVENT
DTSTART;TZID=Europe/London:20230317T100000
DTEND;TZID=Europe/London:20230317T140000
DTSTAMP:20260424T050914
CREATED:20230227T161855Z
LAST-MODIFIED:20230227T161855Z
UID:8874-1679047200-1679061600@www.abergelegolfclub.co.uk
SUMMARY:Open Ladies Spring Fayre
DESCRIPTION:Our annual Ladies Spring Fayre is back on Friday 17th March 2023. The format is a ladies Fourball Better ball and is £8 to enter.
URL:https://www.abergelegolfclub.co.uk/event/open-ladies-spring-fayre/
LOCATION:Abergele Golf Club\, Tan-Y-Gopa Road\, Abergele\, Conwy\, LL228DS\, United Kingdom
CATEGORIES:Golf
ATTACH;FMTTYPE=image/jpeg:https://www.abergelegolfclub.co.uk/wp-content/uploads/2022/09/DJI_0204-003-scaled.jpg
END:VEVENT
END:VCALENDAR