BEGIN:VCALENDAR
VERSION:2.0
PRODID:-//Abergele Golf Club - ECPv6.15.18//NONSGML v1.0//EN
CALSCALE:GREGORIAN
METHOD:PUBLISH
X-ORIGINAL-URL:https://www.abergelegolfclub.co.uk
X-WR-CALDESC:Events for Abergele Golf Club
REFRESH-INTERVAL;VALUE=DURATION:PT1H
X-Robots-Tag:noindex
X-PUBLISHED-TTL:PT1H
BEGIN:VTIMEZONE
TZID:Europe/London
BEGIN:DAYLIGHT
TZOFFSETFROM:+0000
TZOFFSETTO:+0100
TZNAME:BST
DTSTART:20250330T010000
END:DAYLIGHT
BEGIN:STANDARD
TZOFFSETFROM:+0100
TZOFFSETTO:+0000
TZNAME:GMT
DTSTART:20251026T010000
END:STANDARD
BEGIN:DAYLIGHT
TZOFFSETFROM:+0000
TZOFFSETTO:+0100
TZNAME:BST
DTSTART:20260329T010000
END:DAYLIGHT
BEGIN:STANDARD
TZOFFSETFROM:+0100
TZOFFSETTO:+0000
TZNAME:GMT
DTSTART:20261025T010000
END:STANDARD
BEGIN:DAYLIGHT
TZOFFSETFROM:+0000
TZOFFSETTO:+0100
TZNAME:BST
DTSTART:20270328T010000
END:DAYLIGHT
BEGIN:STANDARD
TZOFFSETFROM:+0100
TZOFFSETTO:+0000
TZNAME:GMT
DTSTART:20271031T010000
END:STANDARD
END:VTIMEZONE
BEGIN:VEVENT
DTSTART;TZID=Europe/London:20260502T183000
DTEND;TZID=Europe/London:20260502T233000
DTSTAMP:20260423T101127
CREATED:20260312T154446Z
LAST-MODIFIED:20260312T154446Z
UID:10685-1777746600-1777764600@www.abergelegolfclub.co.uk
SUMMARY:Captains Fundraising Day - The Aim
DESCRIPTION:Captains Fundraising Day at Abergele Golf Club \nThe Aim – covering all genres of music on stage 8:45pm and 10pm \nOur Resident DJ – Mickey Moonshine will play your favourite music \nTickets £10 each available at the bar or contact Dino on 07974 703602
URL:https://www.abergelegolfclub.co.uk/event/captains-fundraising-day-the-aim/
LOCATION:Abergele Golf Club\, Tan-Y-Gopa Road\, Abergele\, Conwy\, LL228DS\, United Kingdom
CATEGORIES:Social
ATTACH;FMTTYPE=image/jpeg:https://www.abergelegolfclub.co.uk/wp-content/uploads/2026/03/CAPTAINS_DAY_THE_AIM.jpg
END:VEVENT
BEGIN:VEVENT
DTSTART;TZID=Europe/London:20260606T170000
DTEND;TZID=Europe/London:20260606T233000
DTSTAMP:20260423T101127
CREATED:20260312T165327Z
LAST-MODIFIED:20260312T165327Z
UID:10689-1780765200-1780788600@www.abergelegolfclub.co.uk
SUMMARY:President's Day - Ritchie Penrose
DESCRIPTION:President’s Dave Richmond and Lyn Reid invite you to share their day when they will host a BBQ \nEntertainment by the charismatic Ritchie Penrose singing soul with SOUL on stage 8:45pm and 10pm \nTickets £30 – inclusive of BBQ & entertainment (Food served between 6pm-7:30pm)\nTickets £10 – for entertainment only \nTickets available at the bar or contact Dino on 07974 703602
URL:https://www.abergelegolfclub.co.uk/event/presidents-day-ritchie-penrose/
LOCATION:Abergele Golf Club\, Tan-Y-Gopa Road\, Abergele\, Conwy\, LL228DS\, United Kingdom
CATEGORIES:Social
ATTACH;FMTTYPE=image/jpeg:https://www.abergelegolfclub.co.uk/wp-content/uploads/2026/03/PRESIDENTS_DAY_ritchie-penrose.jpg
END:VEVENT
BEGIN:VEVENT
DTSTART;TZID=Europe/London:20260620T190000
DTEND;TZID=Europe/London:20260620T233000
DTSTAMP:20260423T101127
CREATED:20260312T153617Z
LAST-MODIFIED:20260312T154520Z
UID:10681-1781982000-1781998200@www.abergelegolfclub.co.uk
SUMMARY:A Vinyl 70's - Soul & Motown Disco
DESCRIPTION:Coming to Abergele Golf Club… \nSaturday 20th June 2026 \nA Vinyl 70’s – Soul & Motown Disco \nWith two of North Wales top DJs – Nicky Moonshine and Nigel Waltkinson \nTickets £7 each available at the bar or contact Dino on 07974 703602 \n 
URL:https://www.abergelegolfclub.co.uk/event/a-vinyl-70s-soul-motown-disco/
LOCATION:Abergele Golf Club\, Tan-Y-Gopa Road\, Abergele\, Conwy\, LL228DS\, United Kingdom
CATEGORIES:Social
ATTACH;FMTTYPE=image/jpeg:https://www.abergelegolfclub.co.uk/wp-content/uploads/2026/03/70s_soul-motown.jpg
END:VEVENT
BEGIN:VEVENT
DTSTART;TZID=Europe/London:20260912T183000
DTEND;TZID=Europe/London:20260912T233000
DTSTAMP:20260423T101127
CREATED:20260327T100651Z
LAST-MODIFIED:20260327T100651Z
UID:10704-1789237800-1789255800@www.abergelegolfclub.co.uk
SUMMARY:Ebie Isaacs - Incredible Soul & Motown Singer
DESCRIPTION:Coming to Abergele Golf Club… \nEbie Isaacs – the incredible Soul & Motown singer \nSaturday 12th September. On stage at 8:45pm and 10pm \nResident DJ Mickey Moonshine will play all the favourite floor fillers. \nTickets £10 available at the bar or contact Dino on 07974703602
URL:https://www.abergelegolfclub.co.uk/event/ebie-isaacs-incredible-soul-motown-singer/
LOCATION:Abergele Golf Club\, Tan-Y-Gopa Road\, Abergele\, Conwy\, LL228DS\, United Kingdom
CATEGORIES:Social
ATTACH;FMTTYPE=image/jpeg:https://www.abergelegolfclub.co.uk/wp-content/uploads/2026/03/Ebie-Isaacs-soul-motown-AGC.jpg
END:VEVENT
BEGIN:VEVENT
DTSTART;TZID=Europe/London:20261031T183000
DTEND;TZID=Europe/London:20261031T233000
DTSTAMP:20260423T101127
CREATED:20260327T101442Z
LAST-MODIFIED:20260327T101442Z
UID:10710-1793471400-1793489400@www.abergelegolfclub.co.uk
SUMMARY:Koo Ka Choo - The Very Best of Glam Rock
DESCRIPTION:Halloween at Abergele Golf Club \nThe very best of Glam Rock with the Sensational Koo Ka Choo \nHits from… Bowie\, T-Rex\, Slade\, The Sweet\, Alvin Stardust and many more. \nSaturday 31st October\, on stage 8:45pm and 10pm. \nResident DJ Mickey Moonshine will continue with the floor fillers from the 70’s to keep the mood upbeat. \nTickets £15 each available at the bar or contact Dino on 07974 703602
URL:https://www.abergelegolfclub.co.uk/event/koo-ka-choo-the-very-best-of-glam-rock/
LOCATION:Abergele Golf Club\, Tan-Y-Gopa Road\, Abergele\, Conwy\, LL228DS\, United Kingdom
CATEGORIES:Social
ATTACH;FMTTYPE=image/jpeg:https://www.abergelegolfclub.co.uk/wp-content/uploads/2026/03/KOOKACHOO-haloween.jpg
END:VEVENT
END:VCALENDAR