BEGIN:VCALENDAR
VERSION:2.0
PRODID:-//Abergele Golf Club - ECPv6.15.18//NONSGML v1.0//EN
CALSCALE:GREGORIAN
METHOD:PUBLISH
X-ORIGINAL-URL:https://www.abergelegolfclub.co.uk
X-WR-CALDESC:Events for Abergele Golf Club
REFRESH-INTERVAL;VALUE=DURATION:PT1H
X-Robots-Tag:noindex
X-PUBLISHED-TTL:PT1H
BEGIN:VTIMEZONE
TZID:Europe/London
BEGIN:DAYLIGHT
TZOFFSETFROM:+0000
TZOFFSETTO:+0100
TZNAME:BST
DTSTART:20220327T010000
END:DAYLIGHT
BEGIN:STANDARD
TZOFFSETFROM:+0100
TZOFFSETTO:+0000
TZNAME:GMT
DTSTART:20221030T010000
END:STANDARD
BEGIN:DAYLIGHT
TZOFFSETFROM:+0000
TZOFFSETTO:+0100
TZNAME:BST
DTSTART:20230326T010000
END:DAYLIGHT
BEGIN:STANDARD
TZOFFSETFROM:+0100
TZOFFSETTO:+0000
TZNAME:GMT
DTSTART:20231029T010000
END:STANDARD
BEGIN:DAYLIGHT
TZOFFSETFROM:+0000
TZOFFSETTO:+0100
TZNAME:BST
DTSTART:20240331T010000
END:DAYLIGHT
BEGIN:STANDARD
TZOFFSETFROM:+0100
TZOFFSETTO:+0000
TZNAME:GMT
DTSTART:20241027T010000
END:STANDARD
END:VTIMEZONE
BEGIN:VEVENT
DTSTART;TZID=Europe/London:20231212T190000
DTEND;TZID=Europe/London:20231212T210000
DTSTAMP:20260423T171702
CREATED:20231107T154015Z
LAST-MODIFIED:20231107T154015Z
UID:9552-1702407600-1702414800@www.abergelegolfclub.co.uk
SUMMARY:Christmas Quiz Evening
DESCRIPTION:Mark your calendars for December 12th! We’re throwing an exclusive Christmas Quiz for all our members. Get ready to put your holiday knowledge to the test and join in on the festive fun!
URL:https://www.abergelegolfclub.co.uk/event/christmas-quiz-evening/
LOCATION:Abergele Golf Club\, Tan-Y-Gopa Road\, Abergele\, Conwy\, LL228DS\, United Kingdom
CATEGORIES:Social
ATTACH;FMTTYPE=image/png:https://www.abergelegolfclub.co.uk/wp-content/uploads/2023/11/Christmas-Quiz-Poster-Instagram-Post.png
END:VEVENT
BEGIN:VEVENT
DTSTART;TZID=Europe/London:20231210T160000
DTEND;TZID=Europe/London:20231210T180000
DTSTAMP:20260423T171702
CREATED:20231116T155918Z
LAST-MODIFIED:20231116T162242Z
UID:9559-1702224000-1702231200@www.abergelegolfclub.co.uk
SUMMARY:Junior Christmas Quiz
DESCRIPTION:It’s that time of year again! The Children’s Christmas Quiz is back on Sunday 10th December 2023\, with a 4pm start time. This annual event is always a jolly time for juniors\, their friends\, and family. With topics ranging from sport to general knowledge\, music to TV soaps\, and even golf\, there’s something for everyone. \nBut that’s not all – the menu on the night is £5\, and includes options such as chicken nuggets and chips\, burger and chips\, veggie burger and chips\, or sausage and chips. \nThe night promises to be a fun-filled event for all the family. Teams must have at least one junior\, and all family members are invited to join in. To come along on the evening\, simply collect a form from the Pro Shop or the Office. Don’t miss out on this fantastic Christmas event!
URL:https://www.abergelegolfclub.co.uk/event/junior-christmas-quiz/
LOCATION:Abergele Golf Club\, Tan-Y-Gopa Road\, Abergele\, Conwy\, LL228DS\, United Kingdom
CATEGORIES:Social
ATTACH;FMTTYPE=image/png:https://www.abergelegolfclub.co.uk/wp-content/uploads/2023/11/Original-Junior-Christmas-Quiz-Poster-1.png
END:VEVENT
BEGIN:VEVENT
DTSTART;TZID=Europe/London:20231202T150000
DTEND;TZID=Europe/London:20231202T170000
DTSTAMP:20260423T171702
CREATED:20231107T154733Z
LAST-MODIFIED:20231116T155326Z
UID:9555-1701529200-1701536400@www.abergelegolfclub.co.uk
SUMMARY:Children's Christmas Party
DESCRIPTION:Get ready for a holly\, jolly time at our annual Children’s Christmas Party on Saturday 2nd December 2023! The air will be filled with holiday cheer as we celebrate together. Don’t miss out on the fun and make sure to keep an eye out for more information over the next couple of weeks. We will update everyone on the price of the party and when the registration list goes up on the noticeboard. And who knows\, you might even get a chance to meet and take a photo with Santa Claus himself! Bring the whole family and join us for a day of festive activities\, delicious treats\, and memories that will last a lifetime. Save the date and we’ll see you there!
URL:https://www.abergelegolfclub.co.uk/event/childrens-christmas-party/
LOCATION:Abergele Golf Club\, Tan-Y-Gopa Road\, Abergele\, Conwy\, LL228DS\, United Kingdom
CATEGORIES:Social
ATTACH;FMTTYPE=image/png:https://www.abergelegolfclub.co.uk/wp-content/uploads/2023/11/Untitled-design-45.png
END:VEVENT
BEGIN:VEVENT
DTSTART;TZID=Europe/London:20231125T190000
DTEND;TZID=Europe/London:20231125T233000
DTSTAMP:20260423T171702
CREATED:20230601T142826Z
LAST-MODIFIED:20230601T145023Z
UID:9203-1700938800-1700955000@www.abergelegolfclub.co.uk
SUMMARY:The New Amen Corner Night
DESCRIPTION:Join us on November 25th\, 2023 for an unforgettable night with the New Amen Corner\, the hottest band on the 60’s circuit. Get ready to be transported back in time with their superb recreations of the era’s music and atmosphere. The band’s power-packed live show is a must-see\, complete with period clothing and authentic equipment. \nWith their music full of the “Feel Good Factor\,” the New Amen Corner will have you in a “Summer of Love” mood in no time. Don’t forget to wear some flowers in your hair to complete the vibe! Tickets are only £10 each and can be purchased from the bar or by contacting Dino on 07974 703602. \nThe New Amen Corner’s talented musicians have played with the likes of Screaming Lord Sutch\, The Symbols\, Jeff Beck\, Alexsis Korner\, Roy Wood\, Robert Plant\, Mike D’Abo\, Cliff Bennett\, Alvin Stardust\, Ruby Turner\, Mike Oldfield\, Chip Hawkes\, and Jaki Graham\, to name a few. \nSo\, mark your calendars for November 25th and get ready to enjoy a night filled with incredible music\, nostalgia\, and good vibes.  \nTo see their highlight reel\, click on the link below:
URL:https://www.abergelegolfclub.co.uk/event/the-new-amen-corner-night/
LOCATION:Abergele Golf Club\, Tan-Y-Gopa Road\, Abergele\, Conwy\, LL228DS\, United Kingdom
CATEGORIES:Social
ATTACH;FMTTYPE=image/png:https://www.abergelegolfclub.co.uk/wp-content/uploads/2023/06/New-Amen-Corner-1.png
END:VEVENT
BEGIN:VEVENT
DTSTART;TZID=Europe/London:20231118T193000
DTEND;TZID=Europe/London:20231119T000000
DTSTAMP:20260423T171702
CREATED:20231003T104433Z
LAST-MODIFIED:20231003T104433Z
UID:9482-1700335800-1700352000@www.abergelegolfclub.co.uk
SUMMARY:Annual Dinner Dance
DESCRIPTION:Our Annual Dinner Dance is back on Saturday 18th November. It is going to be a truly magical night with entertainment from the talented and local Kyle Parry. \nKyle has been a working singer/songwriter for over 13 years and performed all over the UK. Performing on The Voice in 2015\, he narrowly missed out on reaching the next stage of the BBC talent competition. Living in North Wales has given him a melodic rock influence.  His UK The Voice audition can be found here: https://www.youtube.com/watch?v=U3ryZP8UuXw \nThis is a black-tie event\, so you can dress to impress and be the star of the show. The menu for the evening is equally impressive\, with a range of option to suit everyone’s taste buds. \n\n\nFor starters\, you can choose between duck liver\, port and orange pate\, onion chutney and warm toast\, mushroom and spinach soup finished with toasted almonds\, or bang bang king prawns and sriracha mayo. For the mains\, there is pan-fried chicken breast with shallot and tarragon sauce\, grilled fillet of plaice topped and glazed with a crab Thermidor\, and a vegetarian option available upon request. To finish off the meal\, you can choose between a selection of cheese and biscuits\, lemon tart with winter berry compote\, or chocolate rose croissant\, bread and butter. \n\n\n\nThe event starts at 7pm and goes on until late\, so you can dance the night away and enjoy the entertainment that is on offer. The ticket price for the event is £30 per person and they can be bought from our bar. \n\n\nSo why not book your tickets today and get ready for a night to remember? The Annual Dinner Dance is the perfect opportunity to dress up\, let your hair down\, and have a fantastic evening with your friends and loved ones. With such a great menu and entertainment line-up\, you’re sure to have a night to remember! \nLooking for more events? Visit our interactive events calendar here: https://www.abergelegolfclub.co.uk/events-calendar/
URL:https://www.abergelegolfclub.co.uk/event/annual-dinner-dance/
LOCATION:Abergele Golf Club\, Tan-Y-Gopa Road\, Abergele\, Conwy\, LL228DS\, United Kingdom
CATEGORIES:Social
ATTACH;FMTTYPE=image/png:https://www.abergelegolfclub.co.uk/wp-content/uploads/2023/10/Annual-DInner-Dance-Instagram-Post.png
END:VEVENT
BEGIN:VEVENT
DTSTART;TZID=Europe/London:20231103T193000
DTEND;TZID=Europe/London:20231103T233000
DTSTAMP:20260423T171702
CREATED:20231102T100054Z
LAST-MODIFIED:20231102T100054Z
UID:9535-1699039800-1699054200@www.abergelegolfclub.co.uk
SUMMARY:RNLI Charity Music Night with Bobby Gold
DESCRIPTION:Join The Knights Templar of England and Wales at Abergele Golf Club for a night of music\, comedy\, and fun whilst raising money for the RNLI. This event is a fundraiser for the RNLI\, the charity that saves lives at sea. The RNLI search and rescue service has been saving lives for nearly 200 years\, powered primarily by kind donations. The volunteers at the RNLI are driven by values of selflessness\, courage\, dependability\, and trustworthiness. This fundraiser is an opportunity for generations of supporters to power the RNLI’s lifesaving work through kindness and generosity. \n\n\nThe highlight of the evening is the ever-popular and highly entertaining Bobby Gold. If you’re yet to see Bobby live\, you’re in for a treat. Bobby will provide a night of music\, comedy\, and fun that is sure to be unforgettable. The event promises to be a night of laughter\, good music\, and entertainment. Come along with your friends and family and make it a night to remember. \n\n\nTo attend the event\, you can purchase tickets at https://www.ticketsource.co.uk/the-knights-templar-of-england-wales/charity-music-night-with-bobby-gold/e-jgpvyg. Your attendance at this event will make a difference in the lives of people who need the RNLI’s help. So\, come along and enjoy a great evening while supporting a good cause.
URL:https://www.abergelegolfclub.co.uk/event/rnli-charity-music-night-with-bobby-gold/
LOCATION:Abergele Golf Club\, Tan-Y-Gopa Road\, Abergele\, Conwy\, LL228DS\, United Kingdom
CATEGORIES:Social
ATTACH;FMTTYPE=image/jpeg:https://www.abergelegolfclub.co.uk/wp-content/uploads/2023/11/thumbnail_bobby-gold-charity-poster-A4-2-1-scaled.jpg
END:VEVENT
BEGIN:VEVENT
DTSTART;TZID=Europe/London:20231005T200000
DTEND;TZID=Europe/London:20231005T200000
DTSTAMP:20260423T171702
CREATED:20230912T121333Z
LAST-MODIFIED:20230912T121834Z
UID:9420-1696536000-1696536000@www.abergelegolfclub.co.uk
SUMMARY:Bingo
DESCRIPTION:Bingo is Back!\nWe’re excited to announce that Bingo Night is back and better than ever! Starting on Thursday\, October 5th at 8pm\, we’ll be hosting Bingo Night every fortnight for our member Autumn/Winter clubs. Bingo is open to all members\, so be sure to bring your friends and family along for a night of fun and excitement. \n\n\nWith a variety of prizes available\, there’s something for everyone to win. So come along and try your luck at one of our many games. \n\n\nWe can’t wait to see you all there! Join us for an unforgettable evening of Bingo\, prizes\, and all-around good times. Don’t miss out on this amazing opportunity to socialize with fellow members and have a blast. See you on Thursday\, October 5th at 8pm!
URL:https://www.abergelegolfclub.co.uk/event/bingo/
LOCATION:Abergele Golf Club\, Tan-Y-Gopa Road\, Abergele\, Conwy\, LL228DS\, United Kingdom
CATEGORIES:Social
ATTACH;FMTTYPE=image/png:https://www.abergelegolfclub.co.uk/wp-content/uploads/2023/09/Bingo-Poster.png
END:VEVENT
BEGIN:VEVENT
DTSTART;TZID=Europe/London:20230930T190000
DTEND;TZID=Europe/London:20230930T233000
DTSTAMP:20260423T171702
CREATED:20230815T104510Z
LAST-MODIFIED:20230815T104510Z
UID:9323-1696100400-1696116600@www.abergelegolfclub.co.uk
SUMMARY:The Embarrassing Shirt Night
DESCRIPTION:Join us for this year’s Autumn Social\, “The Embarrassing Shirt Night”\, where we invite both ladies and gents to showcase their best/worst\, flashiest/brassiest/trashiest shirt or top that they haven’t worn out in public for a while. Prizes will be awarded for the best worst attire for both men and women. \n\n\nWe’re excited to have live entertainment from the talented Rebekah Wallace\, a female vocalist and soul singer from Manchester. Her velvet tones and engaging performances are sure to make for a complete night of entertainment. From love songs to dance music\, Rebekah has all the tunes to keep you moving. \n\n\nRebekah has won numerous awards and singing competitions in the Manchester area before turning professional\, and we are thrilled to have her share her wonderful singing voice with us. Check out a sample of her music at https://www.youtube.com/watch?v=Iea2Vgo3yG0&t=8s. \n\n\nThe event takes place on Saturday\, September 30th\, with tickets available for £7 each. You can purchase them from the bar or by contacting Dino at 07974703602. Rebekah will be on stage at 8:45 pm and 10 pm\, with resident DJ Mickey Moonshine playing cheesy dance floor fillers in between. Don’t miss out on a night of fun and entertainment at “The Embarrassing Shirt Night”!
URL:https://www.abergelegolfclub.co.uk/event/the-embarrassing-shirt-night/
LOCATION:Abergele Golf Club\, Tan-Y-Gopa Road\, Abergele\, Conwy\, LL228DS\, United Kingdom
CATEGORIES:Social
ATTACH;FMTTYPE=image/png:https://www.abergelegolfclub.co.uk/wp-content/uploads/2023/08/Embarrassing-Shirt-Night.png
END:VEVENT
BEGIN:VEVENT
DTSTART;TZID=Europe/London:20230928T183000
DTEND;TZID=Europe/London:20230928T220000
DTSTAMP:20260423T171702
CREATED:20230912T131937Z
LAST-MODIFIED:20230912T131937Z
UID:9424-1695925800-1695938400@www.abergelegolfclub.co.uk
SUMMARY:Whist
DESCRIPTION:Whist is Back!\nWhist is an exciting card game that has been enjoyed for generations. If you’re looking for a fun and competitive way to spend your Thursday evenings this Autumn and Winter\, then look no further than the Whist Club at Abergele Golf Club. The club is open to all members of the golf club\, and will meet every Thursday from September 28th at 6:30pm. \n\n\nNot only will you have the chance to compete against other members in a friendly atmosphere\, but there will also be some fantastic prizes up for grabs. Whether you’re a seasoned pro or a complete beginner\, everyone is welcome to come along and join in the fun. So why not come and try your hand at Whist with us this Autumn and Winter? We can’t wait to see you there!
URL:https://www.abergelegolfclub.co.uk/event/whist/
LOCATION:Abergele Golf Club\, Tan-Y-Gopa Road\, Abergele\, Conwy\, LL228DS\, United Kingdom
CATEGORIES:Social
ATTACH;FMTTYPE=image/png:https://www.abergelegolfclub.co.uk/wp-content/uploads/2023/09/Whist-Poster.png
END:VEVENT
BEGIN:VEVENT
DTSTART;TZID=Europe/London:20230909T190000
DTEND;TZID=Europe/London:20230909T233000
DTSTAMP:20260423T171702
CREATED:20230531T123657Z
LAST-MODIFIED:20230531T125140Z
UID:9197-1694286000-1694302200@www.abergelegolfclub.co.uk
SUMMARY:Neil Diamond Tribute Evening
DESCRIPTION:Get ready to be “Forever in Blue Jeans” at the Neil Diamond Tribute evening on September 9th! Mike Leigh\, with his uncanny vocal resemblance\, will have you feeling like you’re hearing the real Neil Diamond himself. He’ll be taking the stage at 8:45pm and again at 10:00pm for a “Beautiful Noise” of classic hits. But the night doesn’t end there – resident DJ Micky Moonshine will keep you dancing with “Cracklin’ Rosie” and other 70’s and 80’s dance floor fillers. This is the Neil Diamond concert you’ve always wanted\, and no other tribute comes close to “Sweet Caroline”-zing the crowd quite like Mike Leigh with Diamond Nights. Tickets are only £7 each and can be purchased at the bar or by calling Dino at 07974 703602. Don’t miss out on this “Cherry Cherry” of a night! \nClick the clink below to find the tribute’s highlight reel:
URL:https://www.abergelegolfclub.co.uk/event/neil-diamond-tribute-evening/
LOCATION:Abergele Golf Club\, Tan-Y-Gopa Road\, Abergele\, Conwy\, LL228DS\, United Kingdom
CATEGORIES:Social
ATTACH;FMTTYPE=image/png:https://www.abergelegolfclub.co.uk/wp-content/uploads/2023/05/Neil-Diamond-Tribute.png
END:VEVENT
BEGIN:VEVENT
DTSTART;TZID=Europe/London:20230906T093000
DTEND;TZID=Europe/London:20230906T133000
DTSTAMP:20260423T171702
CREATED:20230815T101031Z
LAST-MODIFIED:20230815T101031Z
UID:9316-1693992600-1694007000@www.abergelegolfclub.co.uk
SUMMARY:Lockdales Valuation Day
DESCRIPTION:LOCKDALES VALUATION DAY\nLockdales Auctioneers and Valuers is hosting a Valuation Day Roadshow at Abergele Golf Club on Wednesday 6th September from 9:30am to 1:30pm\, with last entry at 1pm. This event is open to everyone\, not just members of the club. The professionals are on the lookout for a wide range of items\, including gold\, silver\, jewellery\, watches\, banknotes\, collectables\, ceramics\, art\, GB coins\, sovereigns\, proof sets\, Royal Mint\, Krugerrands\, pre-’47 silver\, pens\, toys\, books\, comics\, clocks\, maps\, instruments\, and antiques. \n\nPlease remember\, they can’t list everything that might be out there\, so please feel free to bring your antique\, vintage and collectables item (as long as it’s portable!) even if you don’t see it on on the list. Whether you’re a collector looking to find a new home for old treasures or have been busy de-cluttering during lockdown and think you may have something of value\, it’s an excellent time to sell. They are always looking to purchase items of particular interest  for their auctions. \n Immediate cash purchase offers are available on their valuation days and you may be offered the chance to consign your item/s to one of our upcoming auctions (subject to terms).  To find out more\, please visit www.lockdales.com  \n\nFree consultations are available\, and no appointment is necessary. To participate in the event\, simply bring your items to the valuation room in our Main Lounge and you will be given a number. Have your items and valuables ready to be examined and wait to be called. Don’t miss this opportunity to receive a professional valuation of your prized possessions – Come and chat with an expert for obligation free advice!
URL:https://www.abergelegolfclub.co.uk/event/lockdales-valuation-day/
LOCATION:Abergele Golf Club\, Tan-Y-Gopa Road\, Abergele\, Conwy\, LL228DS\, United Kingdom
CATEGORIES:Social
ATTACH;FMTTYPE=image/png:https://www.abergelegolfclub.co.uk/wp-content/uploads/2023/08/Upcoming-Event-Lockdales.png
ORGANIZER;CN="Lockdales Auctioneers and Valuers":MAILTO:info@lockdales.com
END:VEVENT
BEGIN:VEVENT
DTSTART;TZID=Europe/London:20230827T200000
DTEND;TZID=Europe/London:20230827T220000
DTSTAMP:20260423T171702
CREATED:20230824T122500Z
LAST-MODIFIED:20230824T122500Z
UID:9363-1693166400-1693173600@www.abergelegolfclub.co.uk
SUMMARY:Celebrating Open Week
DESCRIPTION:Celebrating Open Week – Special Evening For Members \nExciting news for all members! The Open Week Committee has announced a special event for Sunday 27th August to celebrate Open Week\, and thank all the sponsors and volunteers. \nIf you have volunteered in any capacity during the week\, the committee invites you to join them from 7pm for cheese\, biscuits and wine. \nFor all other members\, the doors will open from 8pm to celebrate a brilliant week of golf. The evening will feature a special performance from our very own Bobby Gold from 8:30pm. You are all invited to call up on the night for a free evening of entertainment. \nWe hope that everyone will come to join in on the celebration\, and show their support for our Open Week Committee. \nSo\, mark your calendars and join us for a night to remember. Come dance\, laugh and make memories with your fellow members. We can’t wait to see you there.
URL:https://www.abergelegolfclub.co.uk/event/celebrating-open-week/
LOCATION:Abergele Golf Club\, Tan-Y-Gopa Road\, Abergele\, Conwy\, LL228DS\, United Kingdom
CATEGORIES:Golf,Social
ATTACH;FMTTYPE=image/png:https://www.abergelegolfclub.co.uk/wp-content/uploads/2023/08/Celebrating-Open-Week-Poster-Instagram-Post-Portrait.png
END:VEVENT
BEGIN:VEVENT
DTSTART;TZID=Europe/London:20230805T183000
DTEND;TZID=Europe/London:20230805T230000
DTSTAMP:20260423T171702
CREATED:20230621T091458Z
LAST-MODIFIED:20230621T091458Z
UID:9244-1691260200-1691276400@www.abergelegolfclub.co.uk
SUMMARY:Free Country\, Pop\, and Rock Entertainment at Abergele Golf Club with The Keenan Jones Band
DESCRIPTION:Free Country\, Pop and Rock Entertainment at Abergele Golf Club!\n \nCome join us on Saturday\, August 5th\, 2023 for a night of free entertainment with The Keenan Jones Band! This talented group will be playing a variety of genres including country\, pop\, and rock. The event starts at 6:30 pm and goes on until late\, giving you plenty of time to enjoy the great music. Best of all\, entry is completely free! You won’t want to miss the band’s performances at 8:15 pm and 9:30 pm\, so mark your calendars now and get ready for a fantastic evening of music at Abergele Golf Club. \nTo see the band’s video reel\, please visit: https://www.facebook.com/100027104482691/videos/834363604109123
URL:https://www.abergelegolfclub.co.uk/event/free-country-pop-rock-entertainment/
LOCATION:Abergele Golf Club\, Tan-Y-Gopa Road\, Abergele\, Conwy\, LL228DS\, United Kingdom
CATEGORIES:Social
ATTACH;FMTTYPE=image/jpeg:https://www.abergelegolfclub.co.uk/wp-content/uploads/2023/06/KEENAN_JONES_AGC_Poster-1_page-0001-e1687338634488.jpg
END:VEVENT
BEGIN:VEVENT
DTSTART;TZID=Europe/London:20230715T190000
DTEND;TZID=Europe/London:20230715T233000
DTSTAMP:20260423T171702
CREATED:20230531T111734Z
LAST-MODIFIED:20230704T084306Z
UID:9191-1689447600-1689463800@www.abergelegolfclub.co.uk
SUMMARY:Soul and Motown with Lance Gold
DESCRIPTION: Abergele Golf Club invites you to an unforgettable evening of Soul and Motown music with Lance Gold. On Saturday\, July 15th\, 2023\, starting at 7 pm\, Lance Gold will take the stage to perform his impressive repertoire\, which includes soul and Motown classics such as The Four Tops\, The Temptations\, The O’jays\, The Drifters\, Marvin Gaye\, and Sam Cooke – one of his most influential and favourite singers. Lance is known for his charismatic performances and his ability to take his audience on a musical journey filled with emotion and rhythm. \n\n\nTickets are available for only £7 each and can be purchased from the bar or by calling Dino on 07974 703602. Lance will be on stage at 8:45 pm and 10 pm\, and the party will continue with DJ Micky playing more Motown and Soul dance favourites. Lance Gold\, the “other” half of the mighty StarStar\, has established himself as a leading figure in the world of Soul music. His immaculate appearance\, always suited and booted\, adds to his coolness personified persona\, making him a favourite among Soul and Motown enthusiasts. Don’t miss the chance to experience Lance Gold’s exceptional talent and join us for an unforgettable evening of music\, dancing\, and good vibes. \nWatch one of his highlight reels below by clicking on the link: \nhttps://www.youtube.com/watch?v=_IsDSi7jPRs
URL:https://www.abergelegolfclub.co.uk/event/soul-and-motown-with-lance-gold/
LOCATION:Abergele Golf Club\, Tan-Y-Gopa Road\, Abergele\, Conwy\, LL228DS\, United Kingdom
CATEGORIES:Social
ATTACH;FMTTYPE=image/png:https://www.abergelegolfclub.co.uk/wp-content/uploads/2023/05/Soul-and-Motown-Lance-Gold.png
END:VEVENT
BEGIN:VEVENT
DTSTART;TZID=Europe/London:20230603T190000
DTEND;TZID=Europe/London:20230603T233000
DTSTAMP:20260423T171702
CREATED:20230512T101448Z
LAST-MODIFIED:20230531T112425Z
UID:9164-1685818800-1685835000@www.abergelegolfclub.co.uk
SUMMARY:Spring into Summer BBQ
DESCRIPTION:Get Your Grill On: Spring Into Summer BBQ Tickets Now on Sale! Join us on Saturday\, June 3rd\, 2023 for a sizzling night of fun and entertainment. Enjoy the soulful sounds of Alex Devine and the groovy beats of DJ Micky Moonshine. For just £20\, indulge in mouth-watering BBQ food from the Clubhouse Bistro. Don’t miss out\, get your tickets today at our bar and let’s fire up the summer! \nYou can have a listen to Alex Devine by clicking on the link below: \nhttps://youtu.be/cpZ9YFnpeWY
URL:https://www.abergelegolfclub.co.uk/event/spring-into-summer-bbq/
LOCATION:Abergele Golf Club\, Tan-Y-Gopa Road\, Abergele\, Conwy\, LL228DS\, United Kingdom
CATEGORIES:Social
ATTACH;FMTTYPE=image/png:https://www.abergelegolfclub.co.uk/wp-content/uploads/2023/05/BBQ-Post-23.png
END:VEVENT
BEGIN:VEVENT
DTSTART;TZID=Europe/London:20230519T190000
DTEND;TZID=Europe/London:20230519T233000
DTSTAMP:20260423T171702
CREATED:20230420T151705Z
LAST-MODIFIED:20230420T151736Z
UID:9068-1684522800-1684539000@www.abergelegolfclub.co.uk
SUMMARY:A Tribute Night Honouring Rod Stewart
DESCRIPTION:Get ready for an unforgettable night of entertainment as Abergele Golf Club hosts a tribute to the legendary Rod Stewart on May 19th at 7pm. \nGerry Trew\, renowned for his incredible portrayal of the rock icon\, will be taking to the stage at 8:45pm and 10pm\, bringing all of Rod’s greatest hits to life. But that’s not all – dance the night away to the electrifying sounds of Micky Moonshine’s 70s and 80s dance floor classics in between sets. \nThis is an event not to be missed\, with tickets priced at just £7 each. Purchase your tickets from our bar or contact Dino on 07974 703602 to secure your spot at what promises to be an unforgettable evening of music and entertainment.
URL:https://www.abergelegolfclub.co.uk/event/rod-stewart-tribute/
LOCATION:Abergele Golf Club\, Tan-Y-Gopa Road\, Abergele\, Conwy\, LL228DS\, United Kingdom
CATEGORIES:Social
ATTACH;FMTTYPE=image/jpeg:https://www.abergelegolfclub.co.uk/wp-content/uploads/2023/03/gerry-trew-as-rod-stewart.jpg
END:VEVENT
BEGIN:VEVENT
DTSTART;TZID=Europe/London:20230429T193000
DTEND;TZID=Europe/London:20230429T220000
DTSTAMP:20260423T171702
CREATED:20230421T090706Z
LAST-MODIFIED:20230421T090813Z
UID:9076-1682796600-1682805600@www.abergelegolfclub.co.uk
SUMMARY:Rock the Bank Holiday with Muddy Boots
DESCRIPTION:Join us this upcoming bank holiday weekend for a special event featuring the talented band Muddy Boots. This event is exclusively for members and is completely free of charge. The band will be performing two sets\, starting at 7:30pm and finishing at 10pm\, so you can enjoy a full evening of live music. \n\n\nMuddy Boots is a unique collaboration of members from Holywell Ramblers\, and they specialise in playing music from the 60s and 70s. With their energetic performances and catchy tunes\, they are sure to get you up and dancing. \n\n\nNo need to worry about the cost of entry – this event is completely free for members. So\, come along and start your bank holiday weekend on the right foot. We can’t wait to see you there!
URL:https://www.abergelegolfclub.co.uk/event/rock-the-bank-holiday-with-muddy-boots/
LOCATION:Abergele Golf Club\, Tan-Y-Gopa Road\, Abergele\, Conwy\, LL228DS\, United Kingdom
CATEGORIES:Social
ATTACH;FMTTYPE=image/jpeg:https://www.abergelegolfclub.co.uk/wp-content/uploads/2022/09/Abergele_Golf_Club_Holding.jpg
END:VEVENT
END:VCALENDAR