BEGIN:VCALENDAR
VERSION:2.0
PRODID:-//Abergele Golf Club - ECPv6.15.18//NONSGML v1.0//EN
CALSCALE:GREGORIAN
METHOD:PUBLISH
X-WR-CALNAME:Abergele Golf Club
X-ORIGINAL-URL:https://www.abergelegolfclub.co.uk
X-WR-CALDESC:Events for Abergele Golf Club
REFRESH-INTERVAL;VALUE=DURATION:PT1H
X-Robots-Tag:noindex
X-PUBLISHED-TTL:PT1H
BEGIN:VTIMEZONE
TZID:Europe/London
BEGIN:DAYLIGHT
TZOFFSETFROM:+0000
TZOFFSETTO:+0100
TZNAME:BST
DTSTART:20240331T010000
END:DAYLIGHT
BEGIN:STANDARD
TZOFFSETFROM:+0100
TZOFFSETTO:+0000
TZNAME:GMT
DTSTART:20241027T010000
END:STANDARD
BEGIN:DAYLIGHT
TZOFFSETFROM:+0000
TZOFFSETTO:+0100
TZNAME:BST
DTSTART:20250330T010000
END:DAYLIGHT
BEGIN:STANDARD
TZOFFSETFROM:+0100
TZOFFSETTO:+0000
TZNAME:GMT
DTSTART:20251026T010000
END:STANDARD
BEGIN:DAYLIGHT
TZOFFSETFROM:+0000
TZOFFSETTO:+0100
TZNAME:BST
DTSTART:20260329T010000
END:DAYLIGHT
BEGIN:STANDARD
TZOFFSETFROM:+0100
TZOFFSETTO:+0000
TZNAME:GMT
DTSTART:20261025T010000
END:STANDARD
BEGIN:DAYLIGHT
TZOFFSETFROM:+0000
TZOFFSETTO:+0100
TZNAME:BST
DTSTART:20270328T010000
END:DAYLIGHT
BEGIN:STANDARD
TZOFFSETFROM:+0100
TZOFFSETTO:+0000
TZNAME:GMT
DTSTART:20271031T010000
END:STANDARD
END:VTIMEZONE
BEGIN:VEVENT
DTSTART;TZID=Europe/London:20251231T190000
DTEND;TZID=Europe/London:20260101T010000
DTSTAMP:20260423T182534
CREATED:20250320T152415Z
LAST-MODIFIED:20250320T152505Z
UID:10441-1767207600-1767229200@www.abergelegolfclub.co.uk
SUMMARY:New Years Eve
DESCRIPTION:Celebrate New Years Eve at Abergele Golf Club with the Keenan Jones Band \nPlaying their Fantastic Repertoire of Country\, Pop & Soft Rock Music. \nOn Stage 9.00 and 10.15pm\nOur resident DJ will ring in the New Year with Auld Lang Syne and popular floor fillers. \nTickets £25 – Inclusive of buffet… Food served between 7.30pm – 8.30pm.\nTickets £15 – Entrance only. \nTickets available from the bar or contact Dino on 07974703602. \n 
URL:https://www.abergelegolfclub.co.uk/event/new-years-eve/
LOCATION:Abergele Golf Club\, Tan-Y-Gopa Road\, Abergele\, Conwy\, LL228DS\, United Kingdom
CATEGORIES:Social
ATTACH;FMTTYPE=image/jpeg:https://www.abergelegolfclub.co.uk/wp-content/uploads/2025/03/NYE_KEENANJONES_AGC.jpg
END:VEVENT
BEGIN:VEVENT
DTSTART;TZID=Europe/London:20260124T203000
DTEND;TZID=Europe/London:20260124T233000
DTSTAMP:20260423T182534
CREATED:20250321T104310Z
LAST-MODIFIED:20250321T104310Z
UID:10444-1769286600-1769297400@www.abergelegolfclub.co.uk
SUMMARY:The Denotones 60's Experience
DESCRIPTION:This sensational show brings you many of the greatest hits of the 60’s\, from the biggest artists of the time\, including… the Beatles\, Frankie Valli\, Searchers\, Hollies\, Roy Orbison\, Drifters… and many more. \nOn Stage 8.45pm and 10pm \nOur resident DJ\, will continue the mood with non stop 60’s classic floor fillers \nTickets £10 each available from the bar or contact Dino on 07974 703602
URL:https://www.abergelegolfclub.co.uk/event/the-denotones-60s-experience/
LOCATION:Abergele Golf Club\, Tan-Y-Gopa Road\, Abergele\, Conwy\, LL228DS\, United Kingdom
CATEGORIES:Social
ATTACH;FMTTYPE=image/jpeg:https://www.abergelegolfclub.co.uk/wp-content/uploads/2025/03/DENOTONES_AGC.jpg
END:VEVENT
END:VCALENDAR