BEGIN:VCALENDAR
VERSION:2.0
PRODID:-//Abergele Golf Club - ECPv6.15.18//NONSGML v1.0//EN
CALSCALE:GREGORIAN
METHOD:PUBLISH
X-WR-CALNAME:Abergele Golf Club
X-ORIGINAL-URL:https://www.abergelegolfclub.co.uk
X-WR-CALDESC:Events for Abergele Golf Club
REFRESH-INTERVAL;VALUE=DURATION:PT1H
X-Robots-Tag:noindex
X-PUBLISHED-TTL:PT1H
BEGIN:VTIMEZONE
TZID:Europe/London
BEGIN:DAYLIGHT
TZOFFSETFROM:+0000
TZOFFSETTO:+0100
TZNAME:BST
DTSTART:20240331T010000
END:DAYLIGHT
BEGIN:STANDARD
TZOFFSETFROM:+0100
TZOFFSETTO:+0000
TZNAME:GMT
DTSTART:20241027T010000
END:STANDARD
BEGIN:DAYLIGHT
TZOFFSETFROM:+0000
TZOFFSETTO:+0100
TZNAME:BST
DTSTART:20250330T010000
END:DAYLIGHT
BEGIN:STANDARD
TZOFFSETFROM:+0100
TZOFFSETTO:+0000
TZNAME:GMT
DTSTART:20251026T010000
END:STANDARD
BEGIN:DAYLIGHT
TZOFFSETFROM:+0000
TZOFFSETTO:+0100
TZNAME:BST
DTSTART:20260329T010000
END:DAYLIGHT
BEGIN:STANDARD
TZOFFSETFROM:+0100
TZOFFSETTO:+0000
TZNAME:GMT
DTSTART:20261025T010000
END:STANDARD
END:VTIMEZONE
BEGIN:VEVENT
DTSTART;TZID=Europe/London:20250301T184500
DTEND;TZID=Europe/London:20250301T233000
DTSTAMP:20260424T093454
CREATED:20240605T220759Z
LAST-MODIFIED:20240605T220759Z
UID:10004-1740854700-1740871800@www.abergelegolfclub.co.uk
SUMMARY:Sir Tom Jones Tribute Evening
DESCRIPTION:Sir Tom Jones Tribute Evening\nStep into a night of musical nostalgia and unparalleled entertainment as Abergele Golf Club proudly presents “Sir Tom\, a Tribute to Sir Tom Jones\,” featuring the incredible talents of Adam Parker Brown. This special event\, held in celebration of St. David’s Day\, promises to be an unforgettable experience that will leave you mesmerised and yearning for more. Mark your calendars for Saturday\, 1st March 2025\, and prepare to be swept off your feet by the timeless hits and soulful performances that define the legendary career of Sir Tom Jones. \n\n\nFrom the moment Adam Parker Brown steps onto the stage\, it becomes abundantly clear just how deeply he has immersed himself in the essence of Sir Tom Jones. Adam’s meticulous attention to detail\, his dedication to perfecting the iconic look\, and\, most importantly\, his ability to capture the unmistakable voice of the Welsh superstar\, all come together to create a tribute show that is second to none. With every note and every gesture\, Adam brings the magic of a genuine Tom Jones concert to life\, delivering a performance that is not only technically impressive but also profoundly heartfelt. \n\n\n\n\nSee his show reel here: https://www.youtube.com/watch?v=T6UIQwS0lD0&t=94s \n\n\nThe evening will start at 6:30 PM and promises a well-rounded night of entertainment. As the clock strikes 8:45 PM\, Adam will take the stage for his first set\, transporting the audience back to the golden era of music with hits like “It’s Not Unusual\,” “Delilah\,” and “She’s a Lady.” Following this\, our resident DJ\, the ever-charismatic Micky Moonshine\, will keep the energy high with a mix of floor fillers and audience requests\, ensuring there’s never a dull moment. At 10:00 PM\, Adam will return for his second set\, continuing to enthrall with more of Sir Tom’s greatest hits\, leaving the audience in awe of his remarkable talent. \n\n\nThis celebration of St. David’s Day at Abergele Golf Club isn’t just about the music; it’s about community\, camaraderie\, and creating lasting memories. Tickets for this spectacular evening are priced at a mere £10\, offering exceptional value for a night filled with top-tier entertainment. They are available for purchase directly from the bar or by contacting Dino at 07974 703602. Whether you’re a lifelong fan of Sir Tom Jones or simply looking for a fantastic night out\, this event is not to be missed. \n\n\nJoin us for an evening where the spirit of Sir Tom Jones comes alive through the incredible performance of Adam Parker Brown. Share in the excitement\, sing along to your favourite tunes\, and dance the night away as we honour the legacy of one of music’s greatest icons. Abergele Golf Club is the place to be on Saturday\, 1st March 2025\, for a celebration that will warm your heart and soul. Doors open at 6:30 PM\, with the tribute performance scheduled for 8:45 PM and 10:00 PM. Secure your tickets now and be part of a night that promises to be as legendary as the man himself.
URL:https://www.abergelegolfclub.co.uk/event/sirtomjonestribute/
LOCATION:Abergele Golf Club\, Tan-Y-Gopa Road\, Abergele\, Conwy\, LL228DS\, United Kingdom
CATEGORIES:Social
ATTACH;FMTTYPE=image/png:https://www.abergelegolfclub.co.uk/wp-content/uploads/2024/06/KOO-KA-CHOO-3.png
END:VEVENT
END:VCALENDAR