BEGIN:VCALENDAR
VERSION:2.0
PRODID:-//Abergele Golf Club - ECPv6.15.18//NONSGML v1.0//EN
CALSCALE:GREGORIAN
METHOD:PUBLISH
X-ORIGINAL-URL:https://www.abergelegolfclub.co.uk
X-WR-CALDESC:Events for Abergele Golf Club
REFRESH-INTERVAL;VALUE=DURATION:PT1H
X-Robots-Tag:noindex
X-PUBLISHED-TTL:PT1H
BEGIN:VTIMEZONE
TZID:Europe/London
BEGIN:DAYLIGHT
TZOFFSETFROM:+0000
TZOFFSETTO:+0100
TZNAME:BST
DTSTART:20220327T010000
END:DAYLIGHT
BEGIN:STANDARD
TZOFFSETFROM:+0100
TZOFFSETTO:+0000
TZNAME:GMT
DTSTART:20221030T010000
END:STANDARD
BEGIN:DAYLIGHT
TZOFFSETFROM:+0000
TZOFFSETTO:+0100
TZNAME:BST
DTSTART:20230326T010000
END:DAYLIGHT
BEGIN:STANDARD
TZOFFSETFROM:+0100
TZOFFSETTO:+0000
TZNAME:GMT
DTSTART:20231029T010000
END:STANDARD
BEGIN:DAYLIGHT
TZOFFSETFROM:+0000
TZOFFSETTO:+0100
TZNAME:BST
DTSTART:20240331T010000
END:DAYLIGHT
BEGIN:STANDARD
TZOFFSETFROM:+0100
TZOFFSETTO:+0000
TZNAME:GMT
DTSTART:20241027T010000
END:STANDARD
END:VTIMEZONE
BEGIN:VEVENT
DTSTART;TZID=Europe/London:20230822T101000
DTEND;TZID=Europe/London:20230822T104000
DTSTAMP:20260423T201915
CREATED:20230420T145218Z
LAST-MODIFIED:20230420T145554Z
UID:9041-1692699000-1692700800@www.abergelegolfclub.co.uk
SUMMARY:Open Ladies 9-Hole Stableford
DESCRIPTION:Our Open Ladies 9-Hole Stableford is a new addition to our 2023 Open Week! It is the perfect opportunity to come over with friends and take part in our fun competitions. \n\nThis event will take place on our beautiful course with tee times available from 10:10am to 10:40. Whether you’re a seasoned golfer or just a casual player\, this event is open to players with an active handicap certificate. \n\n\nNot only will you have the chance to compete against other talented golfers\, but you’ll also have the opportunity to meet new people and socialize with like-minded individuals. \n\n\nThe cost to participate is only £10 for visitors and £5 for members\, making it an affordable way to enjoy a day out on the course. \n\n\nSo grab a partner and sign up now for the 9-Hole Stableford. It’s sure to be a day filled with fun\, laughter\, and a little bit of healthy competition. Don’t miss out on this exciting event! To book\, please visit https://brsgolf.com/abergele/opens_home.php.
URL:https://www.abergelegolfclub.co.uk/event/open-ladies-nine-hole-stableford/
LOCATION:Abergele Golf Club\, Tan-Y-Gopa Road\, Abergele\, Conwy\, LL228DS\, United Kingdom
CATEGORIES:Golf
ATTACH;FMTTYPE=image/jpeg:https://www.abergelegolfclub.co.uk/wp-content/uploads/2023/04/Open-Week-Website-Header.jpg
END:VEVENT
BEGIN:VEVENT
DTSTART;TZID=Europe/London:20230822T080000
DTEND;TZID=Europe/London:20230822T140000
DTSTAMP:20260423T201915
CREATED:20230414T151838Z
LAST-MODIFIED:20230414T152416Z
UID:9030-1692691200-1692712800@www.abergelegolfclub.co.uk
SUMMARY:Open Men's Individual Medal
DESCRIPTION:Our Open Men’s Individual Medal is a new addition to our 2023 Open Week! It is the perfect opportunity to come over with friends and take part in our fun competitions. \n\nThis single stroke event will take place on our beautiful course with tee times available from 8am to 2pm. Whether you’re a seasoned golfer or just a casual player\, this event is open to players with an active handicap certificate. \n\n\nNot only will you have the chance to compete against other talented golfers\, but you’ll also have the opportunity to meet new people and socialize with like-minded individuals. \n\n\nThe cost to participate is only £20 for visitors and £10 for members\, making it an affordable way to enjoy a day out on the course. \n\n\nSo grab a partner and sign up now for the Individual Medal. It’s sure to be a day filled with fun\, laughter\, and a little bit of healthy competition. Don’t miss out on this exciting event! To book\, please visit https://brsgolf.com/abergele/opens_home.php.
URL:https://www.abergelegolfclub.co.uk/event/open-mens-individual-medal/
LOCATION:Abergele Golf Club\, Tan-Y-Gopa Road\, Abergele\, Conwy\, LL228DS\, United Kingdom
CATEGORIES:Golf
ATTACH;FMTTYPE=image/jpeg:https://www.abergelegolfclub.co.uk/wp-content/uploads/2023/04/Open-Week-Website-Header.jpg
END:VEVENT
BEGIN:VEVENT
DTSTART;TZID=Europe/London:20230821T073000
DTEND;TZID=Europe/London:20230821T150000
DTSTAMP:20260423T201915
CREATED:20230414T151309Z
LAST-MODIFIED:20230414T152433Z
UID:8913-1692603000-1692630000@www.abergelegolfclub.co.uk
SUMMARY:Open Men's Seniors Betterball
DESCRIPTION:Our Open Men’s Seniors Betterball is back for our 2023 open week! It is the perfect opportunity to come over with friends and take part in our fun competitions. \n\nThis 2-person team event will take place on our beautiful course with tee times available from 8am to 3pm. Whether you’re a seasoned golfer or just a casual player\, this event is open to players with a maximum playing handicap of 28. \n\n\nNot only will you have the chance to compete against other talented golfers\, but you’ll also have the opportunity to meet new people and socialize with like-minded individuals. \n\n\nThe cost to participate is only £20 for visitors and £10 for members\, making it an affordable way to enjoy a day out on the course. \n\n\nSo grab a partner and sign up now for the Open Senior Men’s Betterball. It’s sure to be a day filled with fun\, laughter\, and a little bit of healthy competition. Don’t miss out on this exciting event! To book\, please visit https://brsgolf.com/abergele/opens_home.php.
URL:https://www.abergelegolfclub.co.uk/event/open-mens-seniors-betterball/
LOCATION:Abergele Golf Club\, Tan-Y-Gopa Road\, Abergele\, Conwy\, LL228DS\, United Kingdom
CATEGORIES:Golf
ATTACH;FMTTYPE=image/jpeg:https://www.abergelegolfclub.co.uk/wp-content/uploads/2023/04/Open-Week-Website-Header.jpg
END:VEVENT
BEGIN:VEVENT
DTSTART;TZID=Europe/London:20230610T183000
DTEND;TZID=Europe/London:20230610T233000
DTSTAMP:20260423T201915
CREATED:20230420T152036Z
LAST-MODIFIED:20230420T152036Z
UID:9070-1686421800-1686439800@www.abergelegolfclub.co.uk
SUMMARY:Longest Drive Tournament
DESCRIPTION:Calling all golf enthusiasts! The Longest Drive Tournament is making a comeback to Abergele Golf Club in 2023 and it’s going to be better than ever. Starting on the 10th June 2023 from 6:30pm\, this year’s tournament promises to bring everyone closer to the action. \nThe Longest Drive Tournament is a unique event that tests the limits of golfers’ skills and endurance. Participants have to hit the ball as far as they can\, with the winner being the person who hits the longest drive. It’s a thrilling competition that pushes golfers to their limits and brings out the best in them. \nAll adult golfing members at Abergele Golf Club are encouraged to attend\, with categories for the men\, ladies and seniors. \nNot only will participants have access to the latest technology\, but even spectators can enjoy a fun-filled evening with TVs in the clubhouse and iPads on the balcony. The addition of these features means that everyone can feel like they’re part of the action\, even if they’re not hitting the ball themselves. Plus\, our balcony will be the perfect place to watch the tournament\, with music to create a high-energy night out. \nBut that’s not all. The Pro Shop have promised exciting developments for the tournament in 2023\, which will be unveiled in the coming weeks. It’s an event that promises to be bigger\, better\, and more exciting than ever before! \nSpectators will also benefit from this technology\, with TVs in the clubhouse and iPads on the balcony providing real-time data and analysis of each shot. This means that even those not taking part can enjoy the thrill of the tournament and feel like they’re part of the action. \nThe Longest Drive Tournament was a popular event last year at Abergele Golf Club\, and this year promises to be even more exciting. With the addition of Trackman technology and other exciting developments\, it’s an event that golfers and non-golfers alike won’t want to miss. \nIf you’re interested in participating in the Longest Drive Tournament\, or simply want to learn more\, contact professional@abergelegolfclub.co.uk. It’s an event that promises to be unforgettable\, so don’t miss out!
URL:https://www.abergelegolfclub.co.uk/event/longest-drive-tournament/
LOCATION:Abergele Golf Club\, Tan-Y-Gopa Road\, Abergele\, Conwy\, LL228DS\, United Kingdom
CATEGORIES:Golf
ATTACH;FMTTYPE=image/png:https://www.abergelegolfclub.co.uk/wp-content/uploads/2023/04/LONGDRIVE-LOGO-5.png
END:VEVENT
BEGIN:VEVENT
DTSTART;TZID=Europe/London:20230608T100000
DTEND;TZID=Europe/London:20230608T140000
DTSTAMP:20260423T201915
CREATED:20230414T151227Z
LAST-MODIFIED:20230414T151904Z
UID:9028-1686218400-1686232800@www.abergelegolfclub.co.uk
SUMMARY:Ladies June Jamboree
DESCRIPTION:Our Ladies June Jamboree is back this June! It is the perfect opportunity to come over with friends and take part in our fun competitions. \n\nThis 4-person team event will take place on our beautiful course with tee times available from 10am to 2pm. \n\n\nNot only will you have the chance to compete against other talented golfers\, but you’ll also have the opportunity to meet new people and socialize with like-minded individuals. \n\n\nThe cost to participate is only £16 for visitors and £16 for members\, making it an affordable way to enjoy a day out on the course. \n\n\nSo grab a partner and sign up now. It’s sure to be a day filled with fun\, laughter\, and a little bit of healthy competition. Don’t miss out on this exciting event! To book\, please visit https://brsgolf.com/abergele/opens_home.php.
URL:https://www.abergelegolfclub.co.uk/event/ladies-june-jamboree/
LOCATION:Abergele Golf Club\, Tan-Y-Gopa Road\, Abergele\, Conwy\, LL228DS\, United Kingdom
CATEGORIES:Golf
END:VEVENT
BEGIN:VEVENT
DTSTART;TZID=Europe/London:20230607T080000
DTEND;TZID=Europe/London:20230607T150000
DTSTAMP:20260423T201915
CREATED:20230324T124501Z
LAST-MODIFIED:20230324T125753Z
UID:8908-1686124800-1686150000@www.abergelegolfclub.co.uk
SUMMARY:Open Seniors Men's Betterball
DESCRIPTION:Join us for the Open Seniors Men’s Better Ball – the first Open Summer event for 2023! This is the perfect opportunity for gentlemen aged 55 and over to showcase their golf skills and compete in a friendly\, yet competitive\, environment. \n\n\nThis 2-person team event will take place on our beautiful course with tee times available from 8am to 3pm. Whether you’re a seasoned golfer or just a casual player\, this event is open to players with a maximum playing handicap of 28. \n\n\nNot only will you have the chance to compete against other talented golfers\, but you’ll also have the opportunity to meet new people and socialize with like-minded individuals. \n\n\nThe cost to participate is only £20 for both visitors and members (£40 for a pair)\, making it an affordable way to enjoy a day out on the course. \n\n\nSo grab a partner and sign up now for the Open Senior Men’s Better Ball. It’s sure to be a day filled with fun\, laughter\, and a little bit of healthy competition. Don’t miss out on this exciting event! To book\, please visit https://brsgolf.com/abergele/opens_home.php.
URL:https://www.abergelegolfclub.co.uk/event/open-seniors-mens-betterball/
LOCATION:Abergele Golf Club\, Tan-Y-Gopa Road\, Abergele\, Conwy\, LL228DS\, United Kingdom
CATEGORIES:Golf
ATTACH;FMTTYPE=image/jpeg:https://www.abergelegolfclub.co.uk/wp-content/uploads/2022/09/DJI_0215-003-scaled.jpg
END:VEVENT
BEGIN:VEVENT
DTSTART;TZID=Europe/London:20230512T090000
DTEND;TZID=Europe/London:20230512T133000
DTSTAMP:20260423T201915
CREATED:20230307T111120Z
LAST-MODIFIED:20230309T184025Z
UID:8896-1683882000-1683898200@www.abergelegolfclub.co.uk
SUMMARY:Senior Ladies Better Ball
DESCRIPTION:The Senior Ladies Better Ball here at Abergele Golf Club is a ladies four ball better-ball. Tee times are available from 9-1:30pm on Friday 12th May. To book your tee time\, please visit https://brsgolf.com/abergele/opens_home.php.
URL:https://www.abergelegolfclub.co.uk/event/senior-ladies-better-ball/
LOCATION:Conwy
CATEGORIES:Golf
END:VEVENT
BEGIN:VEVENT
DTSTART;TZID=Europe/London:20230317T100000
DTEND;TZID=Europe/London:20230317T140000
DTSTAMP:20260423T201915
CREATED:20230227T161855Z
LAST-MODIFIED:20230227T161855Z
UID:8874-1679047200-1679061600@www.abergelegolfclub.co.uk
SUMMARY:Open Ladies Spring Fayre
DESCRIPTION:Our annual Ladies Spring Fayre is back on Friday 17th March 2023. The format is a ladies Fourball Better ball and is £8 to enter.
URL:https://www.abergelegolfclub.co.uk/event/open-ladies-spring-fayre/
LOCATION:Abergele Golf Club\, Tan-Y-Gopa Road\, Abergele\, Conwy\, LL228DS\, United Kingdom
CATEGORIES:Golf
ATTACH;FMTTYPE=image/jpeg:https://www.abergelegolfclub.co.uk/wp-content/uploads/2022/09/DJI_0204-003-scaled.jpg
END:VEVENT
END:VCALENDAR